BEGIN:VCALENDAR
VERSION:2.0
PRODID:-//Richard Juzwin Stamps - ECPv6.15.20//NONSGML v1.0//EN
CALSCALE:GREGORIAN
METHOD:PUBLISH
X-WR-CALNAME:Richard Juzwin Stamps
X-ORIGINAL-URL:https://www.richardjuzwin.com.au
X-WR-CALDESC:Events for Richard Juzwin Stamps
REFRESH-INTERVAL;VALUE=DURATION:PT1H
X-Robots-Tag:noindex
X-PUBLISHED-TTL:PT1H
BEGIN:VTIMEZONE
TZID:Australia/Melbourne
BEGIN:STANDARD
TZOFFSETFROM:+1100
TZOFFSETTO:+1000
TZNAME:AEST
DTSTART:20220402T160000
END:STANDARD
BEGIN:DAYLIGHT
TZOFFSETFROM:+1000
TZOFFSETTO:+1100
TZNAME:AEDT
DTSTART:20221001T160000
END:DAYLIGHT
BEGIN:STANDARD
TZOFFSETFROM:+1100
TZOFFSETTO:+1000
TZNAME:AEST
DTSTART:20230401T160000
END:STANDARD
BEGIN:DAYLIGHT
TZOFFSETFROM:+1000
TZOFFSETTO:+1100
TZNAME:AEDT
DTSTART:20230930T160000
END:DAYLIGHT
BEGIN:STANDARD
TZOFFSETFROM:+1100
TZOFFSETTO:+1000
TZNAME:AEST
DTSTART:20240406T160000
END:STANDARD
BEGIN:DAYLIGHT
TZOFFSETFROM:+1000
TZOFFSETTO:+1100
TZNAME:AEDT
DTSTART:20241005T160000
END:DAYLIGHT
BEGIN:STANDARD
TZOFFSETFROM:+1100
TZOFFSETTO:+1000
TZNAME:AEST
DTSTART:20250405T160000
END:STANDARD
BEGIN:DAYLIGHT
TZOFFSETFROM:+1000
TZOFFSETTO:+1100
TZNAME:AEDT
DTSTART:20251004T160000
END:DAYLIGHT
BEGIN:STANDARD
TZOFFSETFROM:+1100
TZOFFSETTO:+1000
TZNAME:AEST
DTSTART:20260404T160000
END:STANDARD
BEGIN:DAYLIGHT
TZOFFSETFROM:+1000
TZOFFSETTO:+1100
TZNAME:AEDT
DTSTART:20261003T160000
END:DAYLIGHT
BEGIN:STANDARD
TZOFFSETFROM:+1100
TZOFFSETTO:+1000
TZNAME:AEST
DTSTART:20270403T160000
END:STANDARD
BEGIN:DAYLIGHT
TZOFFSETFROM:+1000
TZOFFSETTO:+1100
TZNAME:AEDT
DTSTART:20271002T160000
END:DAYLIGHT
END:VTIMEZONE
BEGIN:VTIMEZONE
TZID:Australia/Brisbane
BEGIN:STANDARD
TZOFFSETFROM:+1000
TZOFFSETTO:+1000
TZNAME:AEST
DTSTART:20220101T000000
END:STANDARD
END:VTIMEZONE
BEGIN:VTIMEZONE
TZID:Australia/Melbourne
BEGIN:STANDARD
TZOFFSETFROM:+1100
TZOFFSETTO:+1000
TZNAME:AEST
DTSTART:20200404T160000
END:STANDARD
BEGIN:DAYLIGHT
TZOFFSETFROM:+1000
TZOFFSETTO:+1100
TZNAME:AEDT
DTSTART:20201003T160000
END:DAYLIGHT
BEGIN:STANDARD
TZOFFSETFROM:+1100
TZOFFSETTO:+1000
TZNAME:AEST
DTSTART:20210403T160000
END:STANDARD
BEGIN:DAYLIGHT
TZOFFSETFROM:+1000
TZOFFSETTO:+1100
TZNAME:AEDT
DTSTART:20211002T160000
END:DAYLIGHT
BEGIN:STANDARD
TZOFFSETFROM:+1100
TZOFFSETTO:+1000
TZNAME:AEST
DTSTART:20220402T160000
END:STANDARD
BEGIN:DAYLIGHT
TZOFFSETFROM:+1000
TZOFFSETTO:+1100
TZNAME:AEDT
DTSTART:20221001T160000
END:DAYLIGHT
BEGIN:STANDARD
TZOFFSETFROM:+1100
TZOFFSETTO:+1000
TZNAME:AEST
DTSTART:20230401T160000
END:STANDARD
BEGIN:DAYLIGHT
TZOFFSETFROM:+1000
TZOFFSETTO:+1100
TZNAME:AEDT
DTSTART:20230930T160000
END:DAYLIGHT
END:VTIMEZONE
BEGIN:VTIMEZONE
TZID:UTC
BEGIN:STANDARD
TZOFFSETFROM:+0000
TZOFFSETTO:+0000
TZNAME:UTC
DTSTART:20160101T000000
END:STANDARD
END:VTIMEZONE
BEGIN:VEVENT
DTSTART;VALUE=DATE:20260306
DTEND;VALUE=DATE:20260309
DTSTAMP:20260424T051403
CREATED:20260122T033001Z
LAST-MODIFIED:20260226T043347Z
UID:10000054-1772755200-1773014399@www.richardjuzwin.com.au
SUMMARY:PERTH 2026 - Stamp and Coin Show
DESCRIPTION:Free parking\, on-site food vans\, prizes to be won and FREE ENTRY. \nRichard and Andy will be attending. Contact Richard: 0418 531 659 and Andy 0419 512 978. \nhttps://perthstampandcoinshow.com.au/pscs/index.htm
URL:https://www.richardjuzwin.com.au/richard-events/https-qpc-org-au-queensland2026-perth-2026-stamp-and-coin-show/
LOCATION:South Perth Community Centre\, Cnr South Terrace & Sandgate Street\, South Perth\, WA\, 6151\, Australia
ATTACH;FMTTYPE=image/png:https://www.richardjuzwin.com.au/wp-content/uploads/2026/01/Perth-2026.png
GEO:-31.9885799;115.8676531
X-APPLE-STRUCTURED-LOCATION;VALUE=URI;X-ADDRESS=South Perth Community Centre Cnr South Terrace & Sandgate Street South Perth WA 6151 Australia;X-APPLE-RADIUS=500;X-TITLE=Cnr South Terrace & Sandgate Street:geo:115.8676531,-31.9885799
END:VEVENT
BEGIN:VEVENT
DTSTART;VALUE=DATE:20251108
DTEND;VALUE=DATE:20251110
DTSTAMP:20260424T051403
CREATED:20240822T052212Z
LAST-MODIFIED:20250813T012903Z
UID:10000051-1762560000-1762732799@www.richardjuzwin.com.au
SUMMARY:BRISBANE 2025 - Stamp and Coins Show
DESCRIPTION:Proudly hosted by Collector’s Club Queensland. \nRichard and Andy will be attending. Contact Richard: 0418 531659 and Andy 0419 512978. \nDealers from Queensland\, Interstate and Overseas.  Free entry\, free parking\, food and drinks available. \n 
URL:https://www.richardjuzwin.com.au/richard-events/brisbane-stamp-and-coins-show-2025/
LOCATION:Croatian Club Brisbane\, 210 Dunn Rd\, Rocklea\, QLD\, 4106\, Australia
END:VEVENT
BEGIN:VEVENT
DTSTART;VALUE=DATE:20250320
DTEND;VALUE=DATE:20250324
DTSTAMP:20260424T051403
CREATED:20241021T012053Z
LAST-MODIFIED:20241021T012053Z
UID:10000053-1742428800-1742774399@www.richardjuzwin.com.au
SUMMARY:SYDNEY 2025 - Stamp and Coin Show
DESCRIPTION:Bringing together enthusiasts\, collectors and experts. FREE ENTRY. \nRichard and Andy will be attending. Contact Richard: 0418 531 659 and Andy 0419 512 978. \nThe theme of the show celebrates the 175th Anniversary of the Sydney Views Stamps. \n 
URL:https://www.richardjuzwin.com.au/richard-events/sydney-2025-stamp-and-coin-show/
LOCATION:Wentworth Park Sporting Complex\, 5 Wentworth Park Road\, Glebe\, NSW\, 2037\, Australia
ATTACH;FMTTYPE=image/png:https://www.richardjuzwin.com.au/wp-content/uploads/2024/10/ssce25-logot.png
END:VEVENT
BEGIN:VEVENT
DTSTART;VALUE=DATE:20250307
DTEND;VALUE=DATE:20250310
DTSTAMP:20260424T051403
CREATED:20241021T011436Z
LAST-MODIFIED:20241021T011525Z
UID:10000052-1741305600-1741564799@www.richardjuzwin.com.au
SUMMARY:PERTH 2025 - Stamp and Coin Show
DESCRIPTION:Free parking\, on-site food vans\, prizes to be won and FREE ENTRY. \nRichard and Andy will be attending. Contact Richard: 0418 531 659 and Andy 0419 512 978. \n 
URL:https://www.richardjuzwin.com.au/richard-events/perth-2025-stamp-and-coins-show/
LOCATION:South Perth Community Centre\, Cnr South Terrace & Sandgate Street\, South Perth\, WA\, 6151\, Australia
ATTACH;FMTTYPE=image/png:https://www.richardjuzwin.com.au/wp-content/uploads/2024/10/Perth-2025-logo.png
GEO:-31.9885799;115.8676531
X-APPLE-STRUCTURED-LOCATION;VALUE=URI;X-ADDRESS=South Perth Community Centre Cnr South Terrace & Sandgate Street South Perth WA 6151 Australia;X-APPLE-RADIUS=500;X-TITLE=Cnr South Terrace & Sandgate Street:geo:115.8676531,-31.9885799
END:VEVENT
BEGIN:VEVENT
DTSTART;VALUE=DATE:20241019
DTEND;VALUE=DATE:20241021
DTSTAMP:20260424T051403
CREATED:20240627T010915Z
LAST-MODIFIED:20240815T042838Z
UID:10000050-1729296000-1729468799@www.richardjuzwin.com.au
SUMMARY:ADELAIDE - SAPC State Philatelic Congress
DESCRIPTION:Proudly hosted by the South Australian Philatelic Council. \nAndy will be attending. Contact Andy: 0419 512978. \nLocal and interstate dealers will be there.  Free admission and free parking!
URL:https://www.richardjuzwin.com.au/richard-events/adelaide-sapc-state-philatelic-congress/
LOCATION:Hectorville Community Centre\, 47 Reid Avenue\, Hectorville\, South Australia\, 5073
ATTACH;FMTTYPE=image/png:https://www.richardjuzwin.com.au/wp-content/uploads/2024/06/South-Australian-Philatelic-Council-Logo-200px.png
END:VEVENT
BEGIN:VEVENT
DTSTART;VALUE=DATE:20240912
DTEND;VALUE=DATE:20240916
DTSTAMP:20260424T051403
CREATED:20240509T030557Z
LAST-MODIFIED:20240509T050050Z
UID:10000049-1726099200-1726444799@www.richardjuzwin.com.au
SUMMARY:CANBERRA 2024 - NATIONAL STAMP EXHIBITION
DESCRIPTION:Proudly hosted by the Philatelic Society of Canberra. \nRichard and Andy will be attending. Contact Richard: 0418 531659 and Andy 0419 512978. \nAustralia’s only National Stamp Show in 2024\, with stamp dealers in attendance\, 120+ exhibits and special displays.
URL:https://www.richardjuzwin.com.au/richard-events/canberra-2024-national-stamp-exhibition/
LOCATION:Thoroughbred Park\, Randwick Road\, Lyneham\, ACT\, 2600\, Australia
ATTACH;FMTTYPE=image/jpeg:https://www.richardjuzwin.com.au/wp-content/uploads/2024/05/Canberra-Stamp-Show-2024-image.jpg
ORGANIZER;CN="Philatelic Society of Canberra":MAILTO:secretarycanberra2024@canberrastamps.org
END:VEVENT
BEGIN:VEVENT
DTSTART;VALUE=DATE:20240308
DTEND;VALUE=DATE:20240311
DTSTAMP:20260424T051403
CREATED:20240201T042655Z
LAST-MODIFIED:20240201T045009Z
UID:10000048-1709856000-1710115199@www.richardjuzwin.com.au
SUMMARY:2024 PERTH STAMP & COIN SHOW
DESCRIPTION:Richard and Andy will be attending. Contact Richard: 0418 531659 and Andy 0419 512978.
URL:https://www.richardjuzwin.com.au/richard-events/2024-perth-stamp-coin-shoe/
LOCATION:South Perth Community Centre\, Cnr South Terrace & Sandgate Street\, South Perth\, WA\, 6151\, Australia
ATTACH;FMTTYPE=image/jpeg:https://www.richardjuzwin.com.au/wp-content/uploads/2024/02/Sth-Perth-Community-centre-2.jpg
GEO:-31.9885799;115.8676531
X-APPLE-STRUCTURED-LOCATION;VALUE=URI;X-ADDRESS=South Perth Community Centre Cnr South Terrace & Sandgate Street South Perth WA 6151 Australia;X-APPLE-RADIUS=500;X-TITLE=Cnr South Terrace & Sandgate Street:geo:115.8676531,-31.9885799
END:VEVENT
BEGIN:VEVENT
DTSTART;VALUE=DATE:20231111
DTEND;VALUE=DATE:20231113
DTSTAMP:20260424T051403
CREATED:20230803T042837Z
LAST-MODIFIED:20230803T042837Z
UID:10000047-1699660800-1699833599@www.richardjuzwin.com.au
SUMMARY:Brisbane Stamp and Coin Show 2023
DESCRIPTION:Times: 10am to 5pm Saturday and 9am to 4pm Sunday. Richard and Andy will be attending. contact Richard: 0418 531659 and Andy 0419 512978.
URL:https://www.richardjuzwin.com.au/richard-events/brisbane-stamp-and-coin-show-2023/
LOCATION:The Calamvale Hotel\, Cnr Comptom & Beaudesert Roads\, Calamvale\, Queensland\, 4116
ATTACH;FMTTYPE=image/jpeg:https://www.richardjuzwin.com.au/wp-content/uploads/2023/08/2023-BSCS-new-1.jpg
END:VEVENT
BEGIN:VEVENT
DTSTART;VALUE=DATE:20231102
DTEND;VALUE=DATE:20231106
DTSTAMP:20260424T051403
CREATED:20230803T041236Z
LAST-MODIFIED:20230803T042322Z
UID:10000046-1698883200-1699228799@www.richardjuzwin.com.au
SUMMARY:Perth National Stamp Expo 2023
DESCRIPTION:Times: Thursday to Saturday 10am to 3pm.  Sunday 10am to 3pm. Richard will be attending.  Contact Richard: 0418 531659.
URL:https://www.richardjuzwin.com.au/richard-events/perth-national-stamp-expo-2023/
LOCATION:Gloucester Park\, Nelson Crescent\, Perth\, 6000
ATTACH;FMTTYPE=image/jpeg:https://www.richardjuzwin.com.au/wp-content/uploads/2023/08/Logo-Perth-2023-lge.jpg
END:VEVENT
BEGIN:VEVENT
DTSTART;VALUE=DATE:20231014
DTEND;VALUE=DATE:20231016
DTSTAMP:20260424T051403
CREATED:20230803T034427Z
LAST-MODIFIED:20230803T040700Z
UID:10000045-1697241600-1697414399@www.richardjuzwin.com.au
SUMMARY:South Australia Philatelic Congress 2023
DESCRIPTION:Dates: Saturday 14th and Sunday 15th October\, 2023.  Times: Saturday 10am to 5pm & Sunday 10am to 4pm. Richard and Andy will be attending. Contact Richard: 0418 531 659 and Andy 0419 512978. \n 
URL:https://www.richardjuzwin.com.au/richard-events/south-australia-philatelic-congress-2023/
LOCATION:Hectorville Community Centre\, 47 Reid Avenue\, Hectorville\, South Australia\, 5073
ATTACH;FMTTYPE=image/jpeg:https://www.richardjuzwin.com.au/wp-content/uploads/2023/08/saphilhouse-2023-small.jpg
END:VEVENT
BEGIN:VEVENT
DTSTART;VALUE=DATE:20230519
DTEND;VALUE=DATE:20230522
DTSTAMP:20260424T051403
CREATED:20221215T000256Z
LAST-MODIFIED:20221215T002121Z
UID:10000044-1684454400-1684713599@www.richardjuzwin.com.au
SUMMARY:Hobart Stamp Show 2023
DESCRIPTION:Date: Friday 19th May to Sunday 21st May\, 2023 \nTimes: Friday 19th May 12pm to 5pm\, Saturday 20th May 10am to 5pm\, Sunday 21st May 10am to 3pm. \nVenue: Hobart Town Hall Ballroom\, 50 Macquarie Street\, (Opposite the  GPO)\, Hobart. \nRichard and Andy will be in attendance. Contact Richard 0418 531659 and Andy 0419 512978. \nhttps://hobartstampshow2023.com
URL:https://www.richardjuzwin.com.au/richard-events/hobart-stamp-show-2023/
LOCATION:Hobart Town Hall\, Macquarie Street\, Hobart\, Tasmania\, 7140\, Australia
ATTACH;FMTTYPE=image/jpeg:https://www.richardjuzwin.com.au/wp-content/uploads/2022/12/Hobart-2023-2-1.jpg
END:VEVENT
BEGIN:VEVENT
DTSTART;VALUE=DATE:20230324
DTEND;VALUE=DATE:20230327
DTSTAMP:20260424T051403
CREATED:20221205T025126Z
LAST-MODIFIED:20221212T230509Z
UID:10000043-1679616000-1679875199@www.richardjuzwin.com.au
SUMMARY:Perth Stamp & Coin Show
DESCRIPTION:Dates: Friday 24th March  to Sunday 26th March\, 2023 \nTimes: Friday : 1pm to 5pm\, Saturday: 10am to 4pm\, Sunday: 10am to 3pm. \nRichard and Andy will be in attendance. Contact Richard: 0418 531 659 & Andy 0419 412 978 \nhttps://www.perthstampandcoinshow.com.au/ \n 
URL:https://www.richardjuzwin.com.au/richard-events/perth-stamp-coin-show-2023/
LOCATION:South Perth Community Centre\, Cnr South Terrace & Sandgate Street\, South Perth\, WA\, 6151\, Australia
ATTACH;FMTTYPE=image/jpeg:https://www.richardjuzwin.com.au/wp-content/uploads/2022/12/South-Perth-Com-Centre-1.jpg
GEO:-31.9885799;115.8676531
X-APPLE-STRUCTURED-LOCATION;VALUE=URI;X-ADDRESS=South Perth Community Centre Cnr South Terrace & Sandgate Street South Perth WA 6151 Australia;X-APPLE-RADIUS=500;X-TITLE=Cnr South Terrace & Sandgate Street:geo:115.8676531,-31.9885799
END:VEVENT
BEGIN:VEVENT
DTSTART;VALUE=DATE:20221112
DTEND;VALUE=DATE:20221114
DTSTAMP:20260424T051403
CREATED:20220804T234814Z
LAST-MODIFIED:20220804T235152Z
UID:10000042-1668211200-1668383999@www.richardjuzwin.com.au
SUMMARY:2022 Brisbane Stamp And Coin Show
DESCRIPTION:Times: Saturday 10am to 5pm\, Sunday 10am to 4pm.  Richard and Andy will be in attendance.  Contact Richard 0418 531659 and Andy 0419 512978. \n  \n 
URL:https://www.richardjuzwin.com.au/richard-events/2022-brisbane-stamp-and-coin-show/
LOCATION:The Calamvale Hotel\, Cnr Comptom & Beaudesert Roads\, Calamvale\, Queensland\, 4116
ATTACH;FMTTYPE=image/jpeg:https://www.richardjuzwin.com.au/wp-content/uploads/2022/08/Bris-logo-22-copy.jpg
END:VEVENT
BEGIN:VEVENT
DTSTART;VALUE=DATE:20220930
DTEND;VALUE=DATE:20221003
DTSTAMP:20260424T051403
CREATED:20220616T021309Z
LAST-MODIFIED:20220616T022038Z
UID:10000041-1664496000-1664755199@www.richardjuzwin.com.au
SUMMARY:PERTH STAMP AND COIN SHOW
DESCRIPTION:Richard and Andy will be in attendance.  Contact Richard: 0418 531659 and Andy 0419 512978.\nhttps://perthstampandcoinshow.com.au/pscs/index.htm
URL:https://www.richardjuzwin.com.au/richard-events/perth-stamp-and-coin-show-2/
LOCATION:South Perth Community Centre\, Cnr South Terrace & Sandgate Street\, South Perth\, WA\, 6151\, Australia
ATTACH;FMTTYPE=image/jpeg:https://www.richardjuzwin.com.au/wp-content/uploads/2022/06/Sth-Perth-Community-centre-2.jpg
GEO:-31.9885799;115.8676531
X-APPLE-STRUCTURED-LOCATION;VALUE=URI;X-ADDRESS=South Perth Community Centre Cnr South Terrace & Sandgate Street South Perth WA 6151 Australia;X-APPLE-RADIUS=500;X-TITLE=Cnr South Terrace & Sandgate Street:geo:115.8676531,-31.9885799
END:VEVENT
BEGIN:VEVENT
DTSTART;VALUE=DATE:20220820
DTEND;VALUE=DATE:20220822
DTSTAMP:20260424T051403
CREATED:20220603T023406Z
LAST-MODIFIED:20220816T020424Z
UID:10000040-1660953600-1661126399@www.richardjuzwin.com.au
SUMMARY:ANPEX 2022
DESCRIPTION:Richard and Andy will be in attendance. Contact Richard: 0418 531659 and Andy 0419 512978.
URL:https://www.richardjuzwin.com.au/richard-events/anpex-2022/
LOCATION:Hectorville Community Centre\, 47 Reid Avenue\, Hectorville\, South Australia\, 5073
ATTACH;FMTTYPE=image/jpeg:https://www.richardjuzwin.com.au/wp-content/uploads/2022/06/ANPEX22.jpg
END:VEVENT
BEGIN:VEVENT
DTSTART;VALUE=DATE:20220527
DTEND;VALUE=DATE:20220530
DTSTAMP:20260424T051403
CREATED:20220325T001359Z
LAST-MODIFIED:20220325T004857Z
UID:10000039-1653609600-1653868799@www.richardjuzwin.com.au
SUMMARY:NEWCASTLE 2022 STAMP AND COIN EXPO
DESCRIPTION:Date: Friday 27th to Sunday 29th May\, 2022\nTimes: Friday & Saturday 10am to 5pm\nSunday 9am to 3pm.\nRichard and Andy will be in attendance.\nContact Richard: 0418 531659 & Andy 0419 512978 \n 
URL:https://www.richardjuzwin.com.au/richard-events/newcastle-2022-stamp-and-coin-expo/
LOCATION:Newcastle Showground Exhibition Centre\, Brown Road\, Broadmeadow\, NSW\, 2292\, Australia
GEO:-32.9204399;151.7367807
X-APPLE-STRUCTURED-LOCATION;VALUE=URI;X-ADDRESS=Newcastle Showground Exhibition Centre Brown Road Broadmeadow NSW 2292 Australia;X-APPLE-RADIUS=500;X-TITLE=Brown Road:geo:151.7367807,-32.9204399
END:VEVENT
BEGIN:VEVENT
DTSTART;VALUE=DATE:20220318
DTEND;VALUE=DATE:20220321
DTSTAMP:20260424T051403
CREATED:20211109T003307Z
LAST-MODIFIED:20211109T013016Z
UID:10000038-1647561600-1647820799@www.richardjuzwin.com.au
SUMMARY:Canberra Stamp Show 2022
DESCRIPTION:Richard and Andy will be in attendance\, located at stand number 18 . \nContact Richard 0418 531659 or Andy  0419 512978. \nhttps://canberrastamps.org/canberra-stampshow-2022-2/
URL:https://www.richardjuzwin.com.au/richard-events/canberra-stamp-show-2022/
LOCATION:Thoroughbred Park\, Randwick Road\, Lyneham\, ACT\, 2600\, Australia
END:VEVENT
BEGIN:VEVENT
DTSTART;VALUE=DATE:20210501
DTEND;VALUE=DATE:20210503
DTSTAMP:20260424T051403
CREATED:20210316T222037Z
LAST-MODIFIED:20210917T143248Z
UID:10000037-1619827200-1619999999@www.richardjuzwin.com.au
SUMMARY:Postcard and Stamp Fair
DESCRIPTION:Saturday 1st May 10am to 5pm\, Sunday 2nd May 10am to 3pm.
URL:https://www.richardjuzwin.com.au/richard-events/postcard-and-stamp-fair/
LOCATION:Torrens Parade Ground Drill Hall\, Torrens Parade Ground Drill Hall\, Adelaide\, South Austalia\, 5000\, Australia
ATTACH;FMTTYPE=image/jpeg:https://www.richardjuzwin.com.au/wp-content/uploads/2021/03/1200px-Torrens_Parade_Ground.jpg
GEO:-34.9178754;138.6005257
X-APPLE-STRUCTURED-LOCATION;VALUE=URI;X-ADDRESS=Torrens Parade Ground Drill Hall Torrens Parade Ground Drill Hall Adelaide South Austalia 5000 Australia;X-APPLE-RADIUS=500;X-TITLE=Torrens Parade Ground Drill Hall:geo:138.6005257,-34.9178754
END:VEVENT
BEGIN:VEVENT
DTSTART;VALUE=DATE:20200313
DTEND;VALUE=DATE:20200316
DTSTAMP:20260424T051403
CREATED:20180116T163544Z
LAST-MODIFIED:20190820T192109Z
UID:10000026-1584057600-1584316799@www.richardjuzwin.com.au
SUMMARY:Canberra National Philatelic Convention 2020
DESCRIPTION:WE SHALL BE IN ATTENDANCE. Contact  Richard: 0418 531 659. Contact Andy: 0419 512 978. Opening times: Saturday 10am to 6pm; Sunday 10am to 3.30pm. \n  \n 
URL:https://www.richardjuzwin.com.au/richard-events/canberra-stamp-show/
LOCATION:Hellenic Club of Canberra\, Hellenic Club\, Matilda Street\, Woden\, ACT\, 2604\, Australia
GEO:-35.3426105;149.0868123
X-APPLE-STRUCTURED-LOCATION;VALUE=URI;X-ADDRESS=Hellenic Club of Canberra Hellenic Club Matilda Street Woden ACT 2604 Australia;X-APPLE-RADIUS=500;X-TITLE=Hellenic Club\, Matilda Street:geo:149.0868123,-35.3426105
END:VEVENT
BEGIN:VEVENT
DTSTART;VALUE=DATE:20191206
DTEND;VALUE=DATE:20191209
DTSTAMP:20260424T051403
CREATED:20191021T165203Z
LAST-MODIFIED:20191021T172521Z
UID:10000036-1575590400-1575849599@www.richardjuzwin.com.au
SUMMARY:Adelaide Aeropex
DESCRIPTION:A Philatelic Exhibition Celebrating Aviation. \nWE WILL BE IN ATTENDANCE\, on Friday\, Saturday and Sunday. Contract Richard: 0418 531659. Contact Andy: 0419 512978.\nhttps://apf.org.au/sa/adelaide-aeropex-2019
URL:https://www.richardjuzwin.com.au/richard-events/adelaid-aeropex/
LOCATION:Torrens Parade Ground Drill Hall\, Torrens Parade Ground Drill Hall\, Adelaide\, South Austalia\, 5000\, Australia
GEO:-34.9178754;138.6005257
X-APPLE-STRUCTURED-LOCATION;VALUE=URI;X-ADDRESS=Torrens Parade Ground Drill Hall Torrens Parade Ground Drill Hall Adelaide South Austalia 5000 Australia;X-APPLE-RADIUS=500;X-TITLE=Torrens Parade Ground Drill Hall:geo:138.6005257,-34.9178754
END:VEVENT
BEGIN:VEVENT
DTSTART;VALUE=DATE:20191109
DTEND;VALUE=DATE:20191111
DTSTAMP:20260424T051403
CREATED:20190801T160451Z
LAST-MODIFIED:20190820T191932Z
UID:10000035-1573257600-1573430399@www.richardjuzwin.com.au
SUMMARY:Brisbane Stamp & Coin Show
DESCRIPTION:WE SHALL BE IN ATTENDANCE. Contact Richard: 0418 531 659. Contact Andy: 0419 512 978. Opening times: Saturday 10am to 5pm; Sunday 10am to 4pm.
URL:https://www.richardjuzwin.com.au/richard-events/brisbane-stamp-coin-show-2/
LOCATION:Queensland Sports & Athletics Centre\, Queensland Sport & Athletic Centre\, Nathan\, 4111\, Australia
ATTACH;FMTTYPE=image/jpeg:https://www.richardjuzwin.com.au/wp-content/uploads/2019/08/BSCS2019FLYER3-copy.jpg
GEO:-27.5583344;153.0622852
X-APPLE-STRUCTURED-LOCATION;VALUE=URI;X-ADDRESS=Queensland Sports & Athletics Centre Queensland Sport & Athletic Centre Nathan 4111 Australia;X-APPLE-RADIUS=500;X-TITLE=Queensland Sport & Athletic Centre:geo:153.0622852,-27.5583344
END:VEVENT
BEGIN:VEVENT
DTSTART;VALUE=DATE:20191101
DTEND;VALUE=DATE:20191104
DTSTAMP:20260424T051403
CREATED:20190801T155404Z
LAST-MODIFIED:20190820T191727Z
UID:10000034-1572566400-1572825599@www.richardjuzwin.com.au
SUMMARY:Perth Stamp & Coin Show 2019
DESCRIPTION:WE SHALL BE IN ATTENDANCE. Contact Richard: 0418 531 659. Contact Andy: 0419 512 978.\nOpening times: Friday 1pm to 6pm; Saturday 10am to 4pm; Sunday 10am to 3pm.
URL:https://www.richardjuzwin.com.au/richard-events/perth-stamp-coin-show-2019/
LOCATION:South Perth Community Centre\, Cnr South Terrace & Sandgate Street\, South Perth\, WA\, 6151\, Australia
ATTACH;FMTTYPE=image/jpeg:https://www.richardjuzwin.com.au/wp-content/uploads/2019/08/2017_southperthcommunityhall.jpg
GEO:-31.9885799;115.8676531
X-APPLE-STRUCTURED-LOCATION;VALUE=URI;X-ADDRESS=South Perth Community Centre Cnr South Terrace & Sandgate Street South Perth WA 6151 Australia;X-APPLE-RADIUS=500;X-TITLE=Cnr South Terrace & Sandgate Street:geo:115.8676531,-31.9885799
END:VEVENT
BEGIN:VEVENT
DTSTART;VALUE=DATE:20191012
DTEND;VALUE=DATE:20191014
DTSTAMP:20260424T051403
CREATED:20190618T144720Z
LAST-MODIFIED:20190820T161526Z
UID:10000033-1570838400-1571011199@www.richardjuzwin.com.au
SUMMARY:SAPC Philatelic Conference
DESCRIPTION:WE SHALL BE IN ATTENDANCE. Contact Richard: 0418 531659 Contact Andy: 0419 512978
URL:https://www.richardjuzwin.com.au/richard-events/sapc-philatelic-conference/
LOCATION:Torrens Parade Ground Drill Hall\, Torrens Parade Ground Drill Hall\, Adelaide\, South Austalia\, 5000\, Australia
ATTACH;FMTTYPE=image/jpeg:https://www.richardjuzwin.com.au/wp-content/uploads/2019/06/Torrens-Parade-Ground-1.jpg
GEO:-34.9178754;138.6005257
X-APPLE-STRUCTURED-LOCATION;VALUE=URI;X-ADDRESS=Torrens Parade Ground Drill Hall Torrens Parade Ground Drill Hall Adelaide South Austalia 5000 Australia;X-APPLE-RADIUS=500;X-TITLE=Torrens Parade Ground Drill Hall:geo:138.6005257,-34.9178754
END:VEVENT
BEGIN:VEVENT
DTSTART;VALUE=DATE:20190613
DTEND;VALUE=DATE:20190617
DTSTAMP:20260424T051403
CREATED:20181118T162123Z
LAST-MODIFIED:20181120T121636Z
UID:10000032-1560384000-1560729599@www.richardjuzwin.com.au
SUMMARY:Sydney 2019 Stamp & Coin Expo\, National Philatelic Exhibition
DESCRIPTION:Venue: Hurstville Aquatic Leisure Centre: Johnny Warren Indoor Sports Stadium.\nThursday 12pm – 7pm\, Friday 10am – 6pm\, Saturday 10am – 5pm\, Sunday 10.00am – 3pm.\nWE SHALL BE IN ATTENDANCE.\nContact Richard: 0418 531659.  Contact Andy: 0419 512 978.
URL:https://www.richardjuzwin.com.au/richard-events/sydney-stamp-coin-expo-2019/
LOCATION:Hurstville Aquatic & Leisure Centre\, Cnr King Georges Road & Forest Road\, Hurstville\, NSW\, 2221\, Australia
ATTACH;FMTTYPE=image/jpeg:https://www.richardjuzwin.com.au/wp-content/uploads/2018/11/Hurstville-Aquatic-Centre-3.jpg
END:VEVENT
BEGIN:VEVENT
DTSTART;VALUE=DATE:20190329
DTEND;VALUE=DATE:20190401
DTSTAMP:20260424T051403
CREATED:20181118T142420Z
LAST-MODIFIED:20181119T122154Z
UID:10000031-1553817600-1554076799@www.richardjuzwin.com.au
SUMMARY:2019 Perth Stamp & Coin Show
DESCRIPTION:Venue: South Perth Community Centre.  Friday 1pm – 6pm\, Saturday 10am – 4pm\, Sunday 10am – 3pm.  WE SHALL BE IN ATTENDANCE. Contact Richard: 0418 531659\, Contact Andy: 0419 512 978 \n  \n 
URL:https://www.richardjuzwin.com.au/richard-events/2019-perth-stamp-coins-show/
LOCATION:South Perth Community Centre\, Cnr South Terrace & Sandgate Street\, South Perth\, WA\, 6151\, Australia
ATTACH;FMTTYPE=image/jpeg:https://www.richardjuzwin.com.au/wp-content/uploads/2018/11/Perth-image-2018-1.jpg
GEO:-31.9885799;115.8676531
X-APPLE-STRUCTURED-LOCATION;VALUE=URI;X-ADDRESS=South Perth Community Centre Cnr South Terrace & Sandgate Street South Perth WA 6151 Australia;X-APPLE-RADIUS=500;X-TITLE=Cnr South Terrace & Sandgate Street:geo:115.8676531,-31.9885799
END:VEVENT
BEGIN:VEVENT
DTSTART;VALUE=DATE:20181110
DTEND;VALUE=DATE:20181112
DTSTAMP:20260424T051403
CREATED:20180801T160444Z
LAST-MODIFIED:20180829T191338Z
UID:10000030-1541808000-1541980799@www.richardjuzwin.com.au
SUMMARY:Brisbane Stamp & Coin Show
DESCRIPTION:
URL:https://www.richardjuzwin.com.au/richard-events/brisbane-stamp-coin-show/
LOCATION:Queensland Sports & Athletics Centre\, Queensland Sport & Athletic Centre\, Nathan\, 4111\, Australia
GEO:-27.5583344;153.0622852
X-APPLE-STRUCTURED-LOCATION;VALUE=URI;X-ADDRESS=Queensland Sports & Athletics Centre Queensland Sport & Athletic Centre Nathan 4111 Australia;X-APPLE-RADIUS=500;X-TITLE=Queensland Sport & Athletic Centre:geo:153.0622852,-27.5583344
END:VEVENT
BEGIN:VEVENT
DTSTART;VALUE=DATE:20181006
DTEND;VALUE=DATE:20181008
DTSTAMP:20260424T051403
CREATED:20180801T155637Z
LAST-MODIFIED:20180829T191220Z
UID:10000029-1538784000-1538956799@www.richardjuzwin.com.au
SUMMARY:SAPC Philatelic Congress
DESCRIPTION:
URL:https://www.richardjuzwin.com.au/richard-events/sapc-philatelic-congress/
LOCATION:Torrens Parade Ground Drill Hall\, Torrens Parade Ground Drill Hall\, Adelaide\, South Austalia\, 5000\, Australia
GEO:-34.9178754;138.6005257
X-APPLE-STRUCTURED-LOCATION;VALUE=URI;X-ADDRESS=Torrens Parade Ground Drill Hall Torrens Parade Ground Drill Hall Adelaide South Austalia 5000 Australia;X-APPLE-RADIUS=500;X-TITLE=Torrens Parade Ground Drill Hall:geo:138.6005257,-34.9178754
END:VEVENT
BEGIN:VEVENT
DTSTART;TZID=UTC:20180706T090000
DTEND;TZID=UTC:20180708T170000
DTSTAMP:20260424T051403
CREATED:20180322T124542Z
LAST-MODIFIED:20180322T124942Z
UID:10000028-1530867600-1531069200@www.richardjuzwin.com.au
SUMMARY:Perth Stamp & Coin Show
DESCRIPTION:  \nContact : Andy on mobile 0419 512 978 or Richard on 0418 531 659 \n 
URL:https://www.richardjuzwin.com.au/richard-events/perth-stamp-coin-show/
LOCATION:South Perth Community Centre\, Cnr South Terrace & Sandgate Street\, South Perth\, WA\, 6151\, Australia
ATTACH;FMTTYPE=image/jpeg:https://www.richardjuzwin.com.au/wp-content/uploads/2018/03/2017_southperthcommunityhall.jpg
GEO:-31.9885799;115.8676531
X-APPLE-STRUCTURED-LOCATION;VALUE=URI;X-ADDRESS=South Perth Community Centre Cnr South Terrace & Sandgate Street South Perth WA 6151 Australia;X-APPLE-RADIUS=500;X-TITLE=Cnr South Terrace & Sandgate Street:geo:115.8676531,-31.9885799
END:VEVENT
BEGIN:VEVENT
DTSTART;TZID=UTC:20180525T100000
DTEND;TZID=UTC:20180527T170000
DTSTAMP:20260424T051403
CREATED:20180116T164406Z
LAST-MODIFIED:20180322T125013Z
UID:10000027-1527242400-1527440400@www.richardjuzwin.com.au
SUMMARY:Newcastle Stamp and Coin Expo
DESCRIPTION:Contact: \nAndy on mobile 0419 512 978 or Richard on mobile: 0418 531 659
URL:https://www.richardjuzwin.com.au/richard-events/newcastle-stamp-and-coin-expo/
LOCATION:Newcastle Showground Exhibition Centre\, Brown Road\, Broadmeadow\, NSW\, 2292\, Australia
GEO:-32.9204399;151.7367807
X-APPLE-STRUCTURED-LOCATION;VALUE=URI;X-ADDRESS=Newcastle Showground Exhibition Centre Brown Road Broadmeadow NSW 2292 Australia;X-APPLE-RADIUS=500;X-TITLE=Brown Road:geo:151.7367807,-32.9204399
END:VEVENT
BEGIN:VEVENT
DTSTART;VALUE=DATE:20171111
DTEND;VALUE=DATE:20171113
DTSTAMP:20260424T051403
CREATED:20170815T160213Z
LAST-MODIFIED:20170815T161638Z
UID:10000025-1510358400-1510531199@www.richardjuzwin.com.au
SUMMARY:BRISBANE STAMP AND COIN SHOW 2017
DESCRIPTION:Saturday 11 November to Sunday 12 November\, 2017. Venue: Queensland Sport and Athletics Centre\,(Track and Field Function Room). Between Garden City Shopping centre and Griffith University. Richard and Andy will be attending. Contact: Richard 0418 531 659 or Andy 0419 512 978.
URL:https://www.richardjuzwin.com.au/richard-events/brisbane-stamp-and-coin-show-2017/
LOCATION:Queensland Sports & Athletics Centre\, Queensland Sport & Athletic Centre\, Nathan\, 4111\, Australia
GEO:-27.5583344;153.0622852
X-APPLE-STRUCTURED-LOCATION;VALUE=URI;X-ADDRESS=Queensland Sports & Athletics Centre Queensland Sport & Athletic Centre Nathan 4111 Australia;X-APPLE-RADIUS=500;X-TITLE=Queensland Sport & Athletic Centre:geo:153.0622852,-27.5583344
END:VEVENT
END:VCALENDAR